BEGIN:VCALENDAR
VERSION:2.0
PRODID:-//pretix//pretix.eu//
BEGIN:VTIMEZONE
TZID:Europe/Helsinki
BEGIN:STANDARD
DTSTART:20001029T050000
RRULE:FREQ=YEARLY;BYDAY=-1SU;BYMONTH=10
TZNAME:EET
TZOFFSETFROM:+0300
TZOFFSETTO:+0200
END:STANDARD
BEGIN:DAYLIGHT
DTSTART:20000326T040000
RRULE:FREQ=YEARLY;BYDAY=-1SU;BYMONTH=3
TZNAME:EEST
TZOFFSETFROM:+0200
TZOFFSETTO:+0300
END:DAYLIGHT
END:VTIMEZONE
BEGIN:VEVENT
UID:pretix-robocon-robocon-2025-4216268@tickets.robotframework.org
DTSTART;TZID=Europe/Helsinki:20250211T090000
DTEND;TZID=Europe/Helsinki:20250214T180000
DESCRIPTION:Tickets: https://tickets.robotframework.org/robocon-2025/421626
 8/\nOrganizer: Robot Framework Foundation
DTSTAMP:20260424T232042Z
LOCATION:Bio Rex\, Lasipalatsi\, Mannerheimintie 22-24\, 00100 Helsinki\, F
 inland
SUMMARY:RoboCon 2025 in-person
END:VEVENT
END:VCALENDAR
