BEGIN:VCALENDAR
VERSION:2.0
PRODID:-//pretix//pretix.eu//
BEGIN:VTIMEZONE
TZID:Europe/Helsinki
BEGIN:STANDARD
DTSTART:20001029T050000
RRULE:FREQ=YEARLY;BYDAY=-1SU;BYMONTH=10
TZNAME:EET
TZOFFSETFROM:+0300
TZOFFSETTO:+0200
END:STANDARD
BEGIN:DAYLIGHT
DTSTART:20000326T040000
RRULE:FREQ=YEARLY;BYDAY=-1SU;BYMONTH=3
TZNAME:EEST
TZOFFSETFROM:+0200
TZOFFSETTO:+0300
END:DAYLIGHT
END:VTIMEZONE
BEGIN:VEVENT
UID:pretix-robocon-robocon-2024-3913179@tickets.robotframework.org
DTSTART;TZID=Europe/Helsinki:20240208T090000
DTEND;TZID=Europe/Helsinki:20240209T180000
DESCRIPTION:Tickets: https://tickets.robotframework.org/robocon-2024/391317
 9/\nOrganizer: Robot Framework Foundation
DTSTAMP:20260421T134805Z
LOCATION:Scandic Marina Congress Center\, Katajanokanlaituri 6\, 00160 Hels
 inki
SUMMARY:RoboCon 2024 in-person
END:VEVENT
END:VCALENDAR
