BEGIN:VCALENDAR
VERSION:2.0
PRODID:-//pretix//pretix.eu//
BEGIN:VTIMEZONE
TZID:Europe/Berlin
BEGIN:STANDARD
DTSTART:20001029T040000
RRULE:FREQ=YEARLY;BYDAY=-1SU;BYMONTH=10
TZNAME:CET
TZOFFSETFROM:+0200
TZOFFSETTO:+0100
END:STANDARD
BEGIN:DAYLIGHT
DTSTART:20000326T030000
RRULE:FREQ=YEARLY;BYDAY=-1SU;BYMONTH=3
TZNAME:CEST
TZOFFSETFROM:+0100
TZOFFSETTO:+0200
END:DAYLIGHT
END:VTIMEZONE
BEGIN:VEVENT
UID:pretix-robocon-robocon-2022-DE-0@tickets.robotframework.org
DTSTART;TZID=Europe/Berlin:20221005T090000
DTEND;TZID=Europe/Berlin:20221005T220000
DESCRIPTION:Tickets: https://tickets.robotframework.org/robocon-2022-DE/\nO
 rganizer: Robot Framework Foundation
DTSTAMP:20260421T120731Z
LOCATION:Steigenberger Airport Hotel Frankfurt\, Unterschweinstiege 16\, 60
 549 Frankfurt am Main
SUMMARY:RoboCon Germany 2022
END:VEVENT
END:VCALENDAR
